{"text_format":"3","workbook":"xlsx","n_sheets":5,"sheets":["Prices","Brunch Pre-Order","Breakfast","Lunch","Dinner"],"not_rendered":{"defined_names":4,"comments":4},"read":"whole","date_system":"1900"}

{"sheet":"Prices","index":0,"n_rows":43,"n_cols":14,"rows_kept":43,"hidden":true}
["Course","£",null,"Arravil drink","£",null,"To Sharer"]
[3,58,null,"Prosecco",0,null,"Olives",0]
[2,null,null,"Beefeater",0,null,"Nuts",0]
[1,null,null,"Sgroppino",0,null,"Bread",0]
[null,0,null,"Limoncello",0,null,"Arancini",0]
[{"$nulls":3},"Aperol"]
["Service Charge",12.5,null,"Moretti"]
[{"$nulls":3},"Heineken"]
["Cooking","R","MR","M","MW","W"]
[]
[]
[]
["Number",1]
[]
[]
[]
[]
["Starters","Marinated Olives","Bread Selection","Hummus","Frutti di Mare","Antipasto Misto","Cured Salmon ","Mirza Qasemi","Kashk Bademjan"]
[]
["Mains","Koobideh","Joojeh ","Ghorme Sabzi","Fesenjan ","Ghalieh Daria","Bademjan","Tag Salmon","Verdura Mista "]
[]
["Desserts","Affogato","Tartufo Nero,","Fruit","Koloocheh","Cannolo"]
[]
["Sides","Broccoli","Green Beans"," Fries","Truffle fries","Cajun Fries","Sumac Fries"]
[]
["Brunch","Full House","French Toast"]
[]
["Bruschette","2 eggs","Cherry Tomato","Avocado","Mushroom","Salmon"]
[]
["Topping","Nutella","Marmalade","Jam"]
[]
["Egg Prep","Fried","Scrambled","Poched"]
[]
["Cheese","Feta","Griiled Veg","Hallumi","Avocado"]
[]
[null,"Sausage","Bacon"]
[]
[2.5,"Egg","Mushroom","Cherry Tomato","Feta","Griiled Veg","Hallumi","Avocado","Sausage","Bacon","Salmon","Parma Ham","Chicken","Salmon Fillet"]
[3,"Feta","Griiled Veg","Hallumi","Avocado","Sausage","Bacon"]
[4,"Salmon","Parma Ham"]
[6,"Chicken"]
[8,"Salmon Fillet"]
[2.5," Fruits"]

{"sheet":"Brunch Pre-Order","index":1,"n_rows":38,"n_cols":31,"rows_kept":38,"hidden":true,"merged":[[1,2,1,7],[1,15,1,17],[2,15,2,17],[3,3,3,7],[3,8,3,10],[3,12,3,17],[3,19,3,24],[3,26,4,26],[3,27,4,27],[3,28,4,28],[3,29,4,29],[3,30,4,30]]}
[null,"Amici Party Menu pre order please complet and email back to amicilondon@gmail.com",{"$nulls":10},993]
[null,"Party Name:",{"$nulls":10},"Numbers",null,"Party Date:"]
[{"$nulls":14},"Time"]
[{"$nulls":19},"Extras",{"$nulls":6},"Course","Arraival   Drink  ","Total","Service","To pay"]
[null,"Name",{"$f":"Prices!B26","v":"Full House"},{"$f":"Prices!$A$32","v":"Egg Prep"},{"$f":"Prices!C26","v":"French Toast"},{"$f":"Prices!A30","v":"Topping"},"Extra","Comments",{"$nulls":4},{"$f":"Prices!B28","v":"2 eggs"},{"$f":"Prices!$A$32","v":"Egg Prep"},{"$f":"Prices!C28","v":"Cherry Tomato"},{"$f":"Prices!D28","v":"Avocado"},{"$f":"Prices!E28","v":"Mushroom"},{"$f":"Prices!F28","v":"Salmon"},null,"Exrta 1","Exrta 2","Exrta 3","Exrta 4",{"$f":"Prices!$A$32","v":"Egg Prep"},"Comment"]
[1,{"$nulls":25},{"$f":"IF(B6<> \"\",\"39\",\"\")","v":""},null,{"$f":"+AA6+AB6","v":{"$error":"#VALUE!"}},{"$f":"+AC6*Prices!$B$7/100","v":{"$error":"#VALUE!"}},{"$f":"+AC6+AD6","v":{"$error":"#VALUE!"}}]
[2,{"$nulls":27},{"$f":"+AA7+AB7","v":0},{"$f":"+AC7*Prices!$B$7/100","v":{"v":0,"d":"0.00"}},{"$f":"+AC7+AD7","v":{"v":0,"d":"0.00"}}]
[3,{"$nulls":27},0,{"$f":"+AC8*Prices!$B$7/100","v":{"v":0,"d":"0.00"}},{"v":0,"d":"0.00"}]
[4,{"$nulls":27},0,{"$f":"+AC9*Prices!$B$7/100","v":{"v":0,"d":"0.00"}},{"v":0,"d":"0.00"}]
[5,{"$nulls":27},0,{"$f":"+AC10*Prices!$B$7/100","v":{"v":0,"d":"0.00"}},{"v":0,"d":"0.00"}]
[6,{"$nulls":27},0,{"$f":"+AC11*Prices!$B$7/100","v":{"v":0,"d":"0.00"}},{"v":0,"d":"0.00"}]
[7,{"$nulls":27},0,{"$f":"+AC12*Prices!$B$7/100","v":{"v":0,"d":"0.00"}},{"v":0,"d":"0.00"}]
[8,{"$nulls":27},0,{"$f":"+AC13*Prices!$B$7/100","v":{"v":0,"d":"0.00"}},{"v":0,"d":"0.00"}]
[9,{"$nulls":27},0,{"$f":"+AC14*Prices!$B$7/100","v":{"v":0,"d":"0.00"}},{"v":0,"d":"0.00"}]
[10,{"$nulls":27},0,{"$f":"+AC15*Prices!$B$7/100","v":{"v":0,"d":"0.00"}},{"v":0,"d":"0.00"}]
[11,{"$nulls":27},0,{"$f":"+AC16*Prices!$B$7/100","v":{"v":0,"d":"0.00"}},{"v":0,"d":"0.00"}]
[12,{"$nulls":27},0,{"$f":"+AC17*Prices!$B$7/100","v":{"v":0,"d":"0.00"}},{"v":0,"d":"0.00"}]
[13,{"$nulls":27},0,{"$f":"+AC18*Prices!$B$7/100","v":{"v":0,"d":"0.00"}},{"v":0,"d":"0.00"}]
[14,{"$nulls":27},0,{"$f":"+AC19*Prices!$B$7/100","v":{"v":0,"d":"0.00"}},{"v":0,"d":"0.00"}]
[15,{"$nulls":27},0,{"$f":"+AC20*Prices!$B$7/100","v":{"v":0,"d":"0.00"}},{"v":0,"d":"0.00"}]
[16,{"$nulls":27},0,{"$f":"+AC21*Prices!$B$7/100","v":{"v":0,"d":"0.00"}},{"v":0,"d":"0.00"}]
[17,{"$nulls":27},0,{"$f":"+AC22*Prices!$B$7/100","v":{"v":0,"d":"0.00"}},{"v":0,"d":"0.00"}]
[18,{"$nulls":27},0,{"$f":"+AC23*Prices!$B$7/100","v":{"v":0,"d":"0.00"}},{"v":0,"d":"0.00"}]
[19,{"$nulls":27},0,{"$f":"+AC24*Prices!$B$7/100","v":{"v":0,"d":"0.00"}},{"v":0,"d":"0.00"}]
[20,{"$nulls":27},0,{"$f":"+AC25*Prices!$B$7/100","v":{"v":0,"d":"0.00"}},{"v":0,"d":"0.00"}]
[21,{"$nulls":27},0,{"$f":"+AC26*Prices!$B$7/100","v":{"v":0,"d":"0.00"}},{"v":0,"d":"0.00"}]
[22,{"$nulls":27},0,{"$f":"+AC27*Prices!$B$7/100","v":{"v":0,"d":"0.00"}},{"v":0,"d":"0.00"}]
[23,{"$nulls":27},0,{"$f":"+AC28*Prices!$B$7/100","v":{"v":0,"d":"0.00"}},{"v":0,"d":"0.00"}]
[24,{"$nulls":27},0,{"$f":"+AC29*Prices!$B$7/100","v":{"v":0,"d":"0.00"}},{"v":0,"d":"0.00"}]
[25,{"$nulls":27},0,{"$f":"+AC30*Prices!$B$7/100","v":{"v":0,"d":"0.00"}},{"v":0,"d":"0.00"}]
[26,{"$nulls":27},0,{"$f":"+AC31*Prices!$B$7/100","v":{"v":0,"d":"0.00"}},{"v":0,"d":"0.00"}]
[27,{"$nulls":27},0,{"$f":"+AC32*Prices!$B$7/100","v":{"v":0,"d":"0.00"}},{"v":0,"d":"0.00"}]
[28,{"$nulls":27},0,{"$f":"+AC33*Prices!$B$7/100","v":{"v":0,"d":"0.00"}},{"v":0,"d":"0.00"}]
[29,{"$nulls":27},0,{"$f":"+AC34*Prices!$B$7/100","v":{"v":0,"d":"0.00"}},{"v":0,"d":"0.00"}]
[30,{"$nulls":27},0,{"$f":"+AC35*Prices!$B$7/100","v":{"v":0,"d":"0.00"}},{"$f":"+AC35+AD35","v":{"v":0,"d":"0.00"}}]
[null,"Totals",null,{"$f":"SUM(D6:D35)","v":0},0,0,0,0,0,0,null,null,{"$f":"SUM(M6:M35)","v":0},0,0,0,0,0,null,{"$f":"SUM(T6:T35)","v":0},{"$f":"SUM(U6:U35)","v":0},{"$f":"SUM(V6:V35)","v":0},{"$f":"SUM(W6:W35)","v":0},null,{"$f":"SUM(Y6:Y35)","v":0},{"$nulls":3},0,{"$f":"+AC36*12.5/100","v":{"v":0,"d":"0.00"}},{"v":0,"d":"0.00"}]
[{"$nulls":26},"Avr","Avr","Avr","Total","Total"]
[{"$nulls":26},{"$f":"SUM(AA6:AA36)/$N$2","v":{"$error":"#DIV/0!"}},{"$f":"SUM(AB6:AB36)/$N$2","v":{"$error":"#DIV/0!"}},{"$f":"SUM(AC6:AC36)/$N$2","v":{"$error":"#VALUE!"}},{"$f":"SUM(AD6:AD36)","v":{"$error":"#VALUE!"}},{"$f":"SUM(AE6:AE36)","v":{"$error":"#VALUE!"}}]

{"sheet":"Breakfast","index":2,"n_rows":66,"n_cols":39,"rows_kept":66,"merged":[[1,2,1,11],[1,19,1,21],[2,19,2,21],[3,3,3,11],[3,12,3,14],[3,16,3,25],[3,27,3,32],[3,34,4,34],[3,35,4,35],[3,36,4,36],[3,37,4,37],[3,38,4,38],[34,0,34,1]]}
[null,"Doost@Amici  Menu pre order please complet and email back to amicilondon@gmail.com"]
[null,"Party Name:",{"$nulls":14},"Numbers","j","Date:"]
[{"$nulls":18},"Time"]
[null,"Breakfast","Drinks",{"$nulls":31},"Course","Arraival   Drink  ","Total","Service","To pay"]
[null,"Guest Name","Arraival   Drink   Glass",{"$f":"+$F46","v":"Kedgeree"},{"$f":"+F47","v":"Simit"},{"$f":"+F48","v":"Gardener"},{"$f":"+F49","v":"Full English"},{"$f":"+Prices!F$18","v":"Antipasto Misto"},{"$f":"+Prices!G$18","v":"Cured Salmon "},{"$f":"+Prices!H$18","v":"Mirza Qasemi"},{"$f":"+Prices!I$18","v":"Kashk Bademjan"},{"$f":"+Prices!F18","v":"Antipasto Misto"},{"$nulls":4},{"$f":"+$Q46","v":"Shakshuka"},{"$f":"+Q47","v":"Turkish Eggs"},{"$f":"+Q48","v":"Houmi"},{"$f":"+Q49","v":"Scrambled"},{"$f":"+Q50","v":"Panir Bereshteh"},{"$f":"+Q51","v":"Purgatory"},{"$f":"+Prices!H$20","v":"Tag Salmon"},{"$f":"+Prices!I$20","v":"Verdura Mista "},"Sides",{"$f":"+Prices!K$20","v":0},null,{"$f":"+U46","v":"Benedict"},{"$f":"+U47","v":"Royal"},{"$f":"+U48","v":"Smashed Avo "},{"$f":"+U49","v":"Florentine"},{"$f":"+Prices!F22","v":"Cannolo"},{"$f":"+Prices!F22","v":"Cannolo"}]
[1,{"$nulls":33},{"$f":"IF(B6<> \"\",$AI$45,\"\")","v":""},null,{"$f":"IF(Q6>0,AI6+5,AI6)","v":""},{"$f":"IF(AK6<>\"\",AK6*$AL$45/100)","v":false},{"$f":"+AK6+AL6","v":{"$error":"#VALUE!"}}]
[2,{"$nulls":33},"",null,"",{"$f":"IF(AK7<>\"\", AK7*$AL$45/100)","v":false},{"$error":"#VALUE!"}]
[3,{"$nulls":33},"",null,"",false,{"$error":"#VALUE!"}]
[4,{"$nulls":33},"",null,"",false,{"$error":"#VALUE!"}]
[5,{"$nulls":33},"",null,"",false,{"$error":"#VALUE!"}]
[6,{"$nulls":33},"",null,"",false,{"$error":"#VALUE!"}]
[7,{"$nulls":33},"",null,"",false,{"$error":"#VALUE!"}]
[8,{"$nulls":33},"",null,"",false,{"$error":"#VALUE!"}]
[9,{"$nulls":33},"",null,"",false,{"$error":"#VALUE!"}]
[10,{"$nulls":33},"",null,"",false,{"$error":"#VALUE!"}]
[11,{"$nulls":33},"",null,"",false,{"$error":"#VALUE!"}]
[12,{"$nulls":33},"",null,"",false,{"$error":"#VALUE!"}]
[13,{"$nulls":33},"",null,"",{"$f":"IF(AK18<>\"\", AK18*Prices!$B$7/100)","v":false},{"$f":"+AK18+AL18","v":{"$error":"#VALUE!"}}]
[14,{"$nulls":33},"",null,"",{"$f":"IF(AK19<>\"\", AK19*Prices!$B$7/100)","v":false},{"$error":"#VALUE!"}]
[15,{"$nulls":33},"",null,"",{"$f":"IF(AK20<>\"\", AK20*Prices!$B$7/100)","v":false},{"$error":"#VALUE!"}]
[16,{"$nulls":33},"",null,"",{"$f":"IF(AK21<>\"\", AK21*Prices!$B$7/100)","v":false},{"$error":"#VALUE!"}]
[17,{"$nulls":33},"",null,"",{"$f":"IF(AK22<>\"\", AK22*Prices!$B$7/100)","v":false},{"$error":"#VALUE!"}]
[18,{"$nulls":33},"",null,"",{"$f":"IF(AK23<>\"\", AK23*Prices!$B$7/100)","v":false},{"$error":"#VALUE!"}]
[19,{"$nulls":33},"",null,"",{"$f":"IF(AK24<>\"\", AK24*Prices!$B$7/100)","v":false},{"$error":"#VALUE!"}]
[20,{"$nulls":33},"",null,"",{"$f":"IF(AK25<>\"\", AK25*Prices!$B$7/100)","v":false},{"$error":"#VALUE!"}]
[21,{"$nulls":33},"",null,"",{"$f":"IF(AK26<>\"\", AK26*Prices!$B$7/100)","v":false},{"$error":"#VALUE!"}]
[22,{"$nulls":33},"",null,"",{"$f":"IF(AK27<>\"\", AK27*Prices!$B$7/100)","v":false},{"$error":"#VALUE!"}]
[23,{"$nulls":33},"",null,"",{"$f":"IF(AK28<>\"\", AK28*Prices!$B$7/100)","v":false},{"$error":"#VALUE!"}]
[24,{"$nulls":33},"",null,"",{"$f":"IF(AK29<>\"\", AK29*Prices!$B$7/100)","v":false},{"$error":"#VALUE!"}]
[25,{"$nulls":33},"",null,"",{"$f":"IF(AK30<>\"\", AK30*Prices!$B$7/100)","v":false},{"$error":"#VALUE!"}]
[26,{"$nulls":33},"",null,"",{"$f":"IF(AK31<>\"\", AK31*Prices!$B$7/100)","v":false},{"$error":"#VALUE!"}]
[27,{"$nulls":33},"",null,"",{"$f":"IF(AK32<>\"\", AK32*Prices!$B$7/100)","v":false},{"$error":"#VALUE!"}]
[28,{"$nulls":33},"",null,"",{"$f":"IF(AK33<>\"\", AK33*Prices!$B$7/100)","v":false},{"$error":"#VALUE!"}]
[29,{"$nulls":33},"",null,"",{"$f":"IF(AK34<>\"\", AK34*Prices!$B$7/100)","v":false},{"$f":"+AK34+AL34","v":{"$error":"#VALUE!"}}]
["Totals",null,{"$f":"SUM(C6:C34)","v":0},{"$f":"SUM(D6:D34)","v":0},{"$f":"SUM(E6:E34)","v":0},0,{"$f":"SUM(G6:G34)","v":0},{"$f":"SUM(H6:H34)","v":0},0,null,0,{"$f":"SUM(L6:L34)","v":0},{"$f":"SUM(M6:M34)","v":0},{"$f":"SUM(N6:N34)","v":0},null,null,{"$f":"SUM(Q6:Q34)","v":0},0,0,0,0,0,0,0,0,null,null,{"$f":"SUM(AB6:AB34)","v":0},0,0,0,{"$f":"SUM(AF6:AF34)","v":0},{"$f":"SUM(AG6:AG34)","v":0},{"$nulls":3},{"$f":"+AI35+AJ35","v":0},{"$f":"SUM(AL6:AL17)","v":{"v":0,"d":"0.00"}},{"$f":"SUM(AM6:AM17)","v":{"$error":"#VALUE!"}}]
[{"$nulls":34},"Avr","Avr","Avr","Total","Total"]
[{"$nulls":34},{"$f":"SUM(AI6:AI35)/$R$2","v":{"$error":"#VALUE!"}},{"$f":"SUM(AJ6:AJ35)/$R$2","v":{"$error":"#VALUE!"}},{"$f":"SUM(AK6:AK35)/$R$2","v":{"$error":"#VALUE!"}},{"$f":"SUM(AL6:AL35)","v":{"v":0,"d":"0.00"}},{"$f":"SUM(AM6:AM35)","v":{"$error":"#VALUE!"}}]
{"$rows_empty":7}
[{"$nulls":34},65,null,null,13.5]
[null,null,"Prosecco Superior",null,null,"Kedgeree",null,null,"Rib Eye*",null,"Nonna",{"$nulls":5},"Shakshuka",{"$nulls":3},"Benedict"]
[null,null,"Kir Royale",null,null,"Simit",null,null,"Cooking",null,"Baklava",{"$nulls":5},"Turkish Eggs",{"$nulls":3},"Royal"]
[null,null,"Champagne",null,null,"Gardener",null,null,"Cod",null,"Fruit Salad",{"$nulls":5},"Houmi",{"$nulls":3},"Smashed Avo "]
[null,null,"E Martini",null,null,"Full English",null,null,"Duck ",{"$nulls":7},"Scrambled",{"$nulls":3},"Florentine"]
[null,null,"Bloody Mary",{"$nulls":5},"Fattoush ",{"$nulls":7},"Panir Bereshteh"]
[null," ","Clem Martini",{"$nulls":5},"Melanzane ",{"$nulls":7},"Purgatory"]
{"$rows_empty":14}
[{"$nulls":18},{"$f":"36:52","v":{"$error":"#VALUE!"}}]

{"sheet":"Lunch","index":3,"n_rows":58,"n_cols":39,"rows_kept":58,"merged":[[1,2,1,11],[1,19,1,21],[2,19,2,21],[3,3,3,11],[3,12,3,14],[3,16,3,25],[3,27,3,32],[3,34,4,34],[3,35,4,35],[3,36,4,36],[3,37,4,37],[3,38,4,38],[34,0,34,1]]}
[null,"Doost@Amici  Menu pre order please complet and email back to amicilondon@gmail.com"]
[null,"Party Name:",{"$nulls":14},"Numbers",null,"Date:"]
[{"$nulls":18},"Time"]
[null,"Lunch","Drinks","Starters",{"$nulls":12},"Main Course",{"$nulls":10},"Desserts",{"$nulls":6},"Course","Arraival   Drink  ","Total","Service","To pay"]
[null,"Guest Name","Arraival   Drink   Glass",{"$f":"+$F46","v":"Ceviche"},{"$f":"+F47","v":"Watermelon"},{"$f":"+F48","v":"Hummus"},{"$f":"+F49","v":"Aubergine"},{"$f":"+Prices!F$18","v":"Antipasto Misto"},{"$f":"+Prices!G$18","v":"Cured Salmon "},{"$f":"+Prices!H$18","v":"Mirza Qasemi"},{"$f":"+Prices!I$18","v":"Kashk Bademjan"},{"$f":"+Prices!F18","v":"Antipasto Misto"},{"$nulls":4},{"$f":"+$Q46","v":"Rib Eye*"},{"$f":"+Q47","v":"Cooking"},{"$f":"+Q48","v":"Cod"},{"$f":"+Q49","v":"Duck"},{"$f":"+Q50","v":"Fattoush"},{"$f":"+Q51","v":"Melanzane "},{"$f":"+Prices!H$20","v":"Tag Salmon"},{"$f":"+Prices!I$20","v":"Verdura Mista "},"Sides",{"$f":"+Prices!K$20","v":0},null,{"$f":"+#REF!","v":{"$error":"#REF!"}},{"$f":"+U46","v":"Baklava"},{"$f":"+U47","v":"Fruit "},{"$f":"+Prices!E22","v":"Koloocheh"},{"$f":"+Prices!F22","v":"Cannolo"},{"$f":"+Prices!F22","v":"Cannolo"}]
[1,{"$nulls":33},{"$f":"IF(B6<> \"\",$AI$45,\"\")","v":""},null,{"$f":"IF(Q6>0,AI6+5,AI6)","v":""},{"$f":"IF(AK6<>\"\",AK6*$AL$45/100)","v":false},{"$f":"+AK6+AL6","v":{"$error":"#VALUE!"}}]
[2,{"$nulls":33},"",null,"",{"$f":"IF(AK7<>\"\", AK7*$AL$45/100)","v":false},{"$error":"#VALUE!"}]
[3,{"$nulls":33},"",null,"",false,{"$error":"#VALUE!"}]
[4,{"$nulls":33},"",null,"",false,{"$error":"#VALUE!"}]
[5,{"$nulls":33},"",null,"",false,{"$error":"#VALUE!"}]
[6,{"$nulls":33},"",null,"",false,{"$error":"#VALUE!"}]
[7,{"$nulls":33},"",null,"",false,{"$error":"#VALUE!"}]
[8,{"$nulls":33},"",null,"",false,{"$error":"#VALUE!"}]
[9,{"$nulls":33},"",null,"",false,{"$error":"#VALUE!"}]
[10,{"$nulls":33},"",null,"",false,{"$error":"#VALUE!"}]
[11,{"$nulls":33},"",null,"",false,{"$error":"#VALUE!"}]
[12,{"$nulls":33},"",null,"",false,{"$error":"#VALUE!"}]
[13,{"$nulls":33},"",null,"",{"$f":"IF(AK18<>\"\", AK18*Prices!$B$7/100)","v":false},{"$error":"#VALUE!"}]
[14,{"$nulls":33},"",null,"",{"$f":"IF(AK19<>\"\", AK19*Prices!$B$7/100)","v":false},{"$error":"#VALUE!"}]
[15,{"$nulls":33},"",null,"",{"$f":"IF(AK20<>\"\", AK20*Prices!$B$7/100)","v":false},{"$error":"#VALUE!"}]
[16,{"$nulls":33},"",null,"",{"$f":"IF(AK21<>\"\", AK21*Prices!$B$7/100)","v":false},{"$error":"#VALUE!"}]
[17,{"$nulls":33},"",null,"",{"$f":"IF(AK22<>\"\", AK22*Prices!$B$7/100)","v":false},{"$error":"#VALUE!"}]
[18,{"$nulls":33},"",null,"",{"$f":"IF(AK23<>\"\", AK23*Prices!$B$7/100)","v":false},{"$error":"#VALUE!"}]
[19,{"$nulls":33},"",null,"",{"$f":"IF(AK24<>\"\", AK24*Prices!$B$7/100)","v":false},{"$error":"#VALUE!"}]
[20,{"$nulls":33},"",null,"",{"$f":"IF(AK25<>\"\", AK25*Prices!$B$7/100)","v":false},{"$error":"#VALUE!"}]
[21,{"$nulls":33},"",null,"",{"$f":"IF(AK26<>\"\", AK26*Prices!$B$7/100)","v":false},{"$error":"#VALUE!"}]
[22,{"$nulls":33},"",null,"",{"$f":"IF(AK27<>\"\", AK27*Prices!$B$7/100)","v":false},{"$error":"#VALUE!"}]
[23,{"$nulls":33},"",null,"",{"$f":"IF(AK28<>\"\", AK28*Prices!$B$7/100)","v":false},{"$error":"#VALUE!"}]
[24,{"$nulls":33},"",null,"",{"$f":"IF(AK29<>\"\", AK29*Prices!$B$7/100)","v":false},{"$error":"#VALUE!"}]
[25,{"$nulls":33},"",null,"",{"$f":"IF(AK30<>\"\", AK30*Prices!$B$7/100)","v":false},{"$error":"#VALUE!"}]
[26,{"$nulls":33},"",null,"",{"$f":"IF(AK31<>\"\", AK31*Prices!$B$7/100)","v":false},{"$error":"#VALUE!"}]
[27,{"$nulls":33},"",null,"",{"$f":"IF(AK32<>\"\", AK32*Prices!$B$7/100)","v":false},{"$error":"#VALUE!"}]
[28,{"$nulls":33},"",null,"",{"$f":"IF(AK33<>\"\", AK33*Prices!$B$7/100)","v":false},{"$error":"#VALUE!"}]
[29,{"$nulls":33},"",null,"",{"$f":"IF(AK34<>\"\", AK34*Prices!$B$7/100)","v":false},{"$f":"+AK34+AL34","v":{"$error":"#VALUE!"}}]
["Totals",null,{"$f":"SUM(C6:C34)","v":0},{"$f":"SUM(D6:D34)","v":0},{"$f":"SUM(E6:E34)","v":0},0,{"$f":"SUM(G6:G34)","v":0},{"$f":"SUM(H6:H34)","v":0},0,null,0,{"$f":"SUM(L6:L34)","v":0},{"$f":"SUM(M6:M34)","v":0},{"$f":"SUM(N6:N34)","v":0},null,null,{"$f":"SUM(Q6:Q34)","v":0},0,0,0,0,0,0,0,0,null,null,{"$f":"SUM(AB6:AB34)","v":0},0,0,0,{"$f":"SUM(AF6:AF34)","v":0},{"$f":"SUM(AG6:AG34)","v":0},{"$nulls":3},{"$f":"+AI35+AJ35","v":0},{"$f":"SUM(AL6:AL17)","v":{"v":0,"d":"0.00"}},{"$f":"SUM(AM6:AM17)","v":{"$error":"#VALUE!"}}]
[{"$nulls":34},"Avr","Avr","Avr","Total","Total"]
[{"$nulls":34},{"$f":"SUM(AI6:AI35)/$R$2","v":{"$error":"#DIV/0!"}},{"$f":"SUM(AJ6:AJ35)/$R$2","v":{"$error":"#DIV/0!"}},{"$f":"SUM(AK6:AK35)/$R$2","v":{"$error":"#DIV/0!"}},{"$f":"SUM(AL6:AL35)","v":{"v":0,"d":"0.00"}},{"$f":"SUM(AM6:AM35)","v":{"$error":"#VALUE!"}}]
{"$rows_empty":7}
[{"$nulls":34},65,null,null,13.5]
[null,null,"Apero Spritz",null,null,"Ceviche",null,null,"Rib Eye*",null,"Nonna",{"$nulls":5},"Rib Eye*","Rare",null,null,"Baklava"]
[null,null,"Campari Spritz",null,null,"Watermelon",null,null,"Cooking",null,"Baklava",{"$nulls":5},"Cooking","Medium Rare",null,null,"Fruit "]
[null,null,"Lillet Spritz",null,null,"Hummus",null,null,"Cod",null,"Fruit Salad",{"$nulls":5},"Cod","Medium"]
[null,null,"Hugo Spritz",null,null,"Aubergine",null,null,"Duck ",{"$nulls":7},"Duck","Medium Well"]
[null,null,"Rose Spritz",{"$nulls":5},"Fattoush ",{"$nulls":7},"Fattoush","Well Done"]
[null," ","White Wine Spritz",{"$nulls":5},"Melanzane ",{"$nulls":7},"Melanzane "]
[null,null,"Negroni"]
[null,null,"Old Fashioned"]
[null,null,"E Martini"]
[null,null,"P Margarita"]
[null,null,"Sekanjebin"]
[null,null,"Khakshir "]
[null,null,"Doogh"]

{"sheet":"Dinner","index":4,"n_rows":58,"n_cols":39,"rows_kept":58,"merged":[[1,2,1,11],[1,19,1,21],[2,19,2,21],[3,3,3,11],[3,12,3,14],[3,16,3,25],[3,27,3,32],[3,34,4,34],[3,35,4,35],[3,36,4,36],[3,37,4,37],[3,38,4,38],[34,0,34,1]]}
[null,"Doost@Amici  Menu pre order please complet and email back to amicilondon@gmail.com"]
[null,"Party Name:",{"$nulls":14},"Numbers",null,"Date:"]
[{"$nulls":18},"Time"]
[null,"Dinner","Drinks","Starters",{"$nulls":12},"Main Course",{"$nulls":10},"Desserts",{"$nulls":6},"Course","Arraival   Drink  ","Total","Service","To pay"]
[null,"Guest Name","Arraival   Drink   Glass",{"$f":"+$F46","v":"Ceviche"},{"$f":"+F47","v":"Watermelon"},{"$f":"+F48","v":"Hummus"},{"$f":"+F49","v":"Aubergine"},{"$f":"+Prices!F$18","v":"Antipasto Misto"},{"$f":"+Prices!G$18","v":"Cured Salmon "},{"$f":"+Prices!H$18","v":"Mirza Qasemi"},{"$f":"+Prices!I$18","v":"Kashk Bademjan"},{"$f":"+Prices!F18","v":"Antipasto Misto"},{"$nulls":4},{"$f":"+$Q46","v":"Rib Eye*"},{"$f":"+Q47","v":"Cooking"},{"$f":"+Q48","v":"Cod"},{"$f":"+Q49","v":"Duck"},{"$f":"+Q50","v":"Fattoush"},{"$f":"+Q51","v":"Melanzane "},{"$f":"+Prices!H$20","v":"Tag Salmon"},{"$f":"+Prices!I$20","v":"Verdura Mista "},"Sides",{"$f":"+Prices!K$20","v":0},null,{"$f":"+#REF!","v":{"$error":"#REF!"}},{"$f":"+U46","v":"Baklava"},{"$f":"+U47","v":"Fruit "},{"$f":"+Prices!E22","v":"Koloocheh"},{"$f":"+Prices!F22","v":"Cannolo"},{"$f":"+Prices!F22","v":"Cannolo"}]
[1,{"$nulls":33},{"$f":"IF(B6<> \"\",$AI$45,\"\")","v":""},null,{"$f":"IF(Q6>0,AI6+5,AI6)","v":""},{"$f":"IF(AK6<>\"\",AK6*$AL$45/100)","v":false},{"$f":"+AK6+AL6","v":{"$error":"#VALUE!"}}]
[2,{"$nulls":33},"",null,"",{"$f":"IF(AK7<>\"\", AK7*$AL$45/100)","v":false},{"$error":"#VALUE!"}]
[3,{"$nulls":33},"",null,"",false,{"$error":"#VALUE!"}]
[4,{"$nulls":33},"",null,"",false,{"$error":"#VALUE!"}]
[5,{"$nulls":33},"",null,"",false,{"$error":"#VALUE!"}]
[6,{"$nulls":33},"",null,"",false,{"$error":"#VALUE!"}]
[7,{"$nulls":33},"",null,"",false,{"$error":"#VALUE!"}]
[8,{"$nulls":33},"",null,"",false,{"$error":"#VALUE!"}]
[9,{"$nulls":33},"",null,"",false,{"$error":"#VALUE!"}]
[10,{"$nulls":33},"",null,"",false,{"$error":"#VALUE!"}]
[11,{"$nulls":33},"",null,"",false,{"$error":"#VALUE!"}]
[12,{"$nulls":33},"",null,"",false,{"$error":"#VALUE!"}]
[13,{"$nulls":33},"",null,"",{"$f":"IF(AK18<>\"\", AK18*Prices!$B$7/100)","v":false},{"$error":"#VALUE!"}]
[14,{"$nulls":33},"",null,"",{"$f":"IF(AK19<>\"\", AK19*Prices!$B$7/100)","v":false},{"$error":"#VALUE!"}]
[15,{"$nulls":33},"",null,"",{"$f":"IF(AK20<>\"\", AK20*Prices!$B$7/100)","v":false},{"$error":"#VALUE!"}]
[16,{"$nulls":33},"",null,"",{"$f":"IF(AK21<>\"\", AK21*Prices!$B$7/100)","v":false},{"$error":"#VALUE!"}]
[17,{"$nulls":33},"",null,"",{"$f":"IF(AK22<>\"\", AK22*Prices!$B$7/100)","v":false},{"$error":"#VALUE!"}]
[18,{"$nulls":33},"",null,"",{"$f":"IF(AK23<>\"\", AK23*Prices!$B$7/100)","v":false},{"$error":"#VALUE!"}]
[19,{"$nulls":33},"",null,"",{"$f":"IF(AK24<>\"\", AK24*Prices!$B$7/100)","v":false},{"$error":"#VALUE!"}]
[20,{"$nulls":33},"",null,"",{"$f":"IF(AK25<>\"\", AK25*Prices!$B$7/100)","v":false},{"$error":"#VALUE!"}]
[21,{"$nulls":33},"",null,"",{"$f":"IF(AK26<>\"\", AK26*Prices!$B$7/100)","v":false},{"$error":"#VALUE!"}]
[22,{"$nulls":33},"",null,"",{"$f":"IF(AK27<>\"\", AK27*Prices!$B$7/100)","v":false},{"$error":"#VALUE!"}]
[23,{"$nulls":33},"",null,"",{"$f":"IF(AK28<>\"\", AK28*Prices!$B$7/100)","v":false},{"$error":"#VALUE!"}]
[24,{"$nulls":33},"",null,"",{"$f":"IF(AK29<>\"\", AK29*Prices!$B$7/100)","v":false},{"$error":"#VALUE!"}]
[25,{"$nulls":33},"",null,"",{"$f":"IF(AK30<>\"\", AK30*Prices!$B$7/100)","v":false},{"$error":"#VALUE!"}]
[26,{"$nulls":33},"",null,"",{"$f":"IF(AK31<>\"\", AK31*Prices!$B$7/100)","v":false},{"$error":"#VALUE!"}]
[27,{"$nulls":33},"",null,"",{"$f":"IF(AK32<>\"\", AK32*Prices!$B$7/100)","v":false},{"$error":"#VALUE!"}]
[28,{"$nulls":33},"",null,"",{"$f":"IF(AK33<>\"\", AK33*Prices!$B$7/100)","v":false},{"$error":"#VALUE!"}]
[29,{"$nulls":33},"",null,"",{"$f":"IF(AK34<>\"\", AK34*Prices!$B$7/100)","v":false},{"$f":"+AK34+AL34","v":{"$error":"#VALUE!"}}]
["Totals",null,{"$f":"SUM(C6:C34)","v":0},{"$f":"SUM(D6:D34)","v":0},{"$f":"SUM(E6:E34)","v":0},0,{"$f":"SUM(G6:G34)","v":0},{"$f":"SUM(H6:H34)","v":0},0,null,0,{"$f":"SUM(L6:L34)","v":0},{"$f":"SUM(M6:M34)","v":0},{"$f":"SUM(N6:N34)","v":0},null,null,{"$f":"SUM(Q6:Q34)","v":0},0,0,0,0,0,0,0,0,null,null,{"$f":"SUM(AB6:AB34)","v":0},0,0,0,{"$f":"SUM(AF6:AF34)","v":0},{"$f":"SUM(AG6:AG34)","v":0},{"$nulls":3},{"$f":"+AI35+AJ35","v":0},{"$f":"SUM(AL6:AL17)","v":{"v":0,"d":"0.00"}},{"$f":"SUM(AM6:AM17)","v":{"$error":"#VALUE!"}}]
[{"$nulls":34},"Avr","Avr","Avr","Total","Total"]
[{"$nulls":34},{"$f":"SUM(AI6:AI35)/$R$2","v":{"$error":"#DIV/0!"}},{"$f":"SUM(AJ6:AJ35)/$R$2","v":{"$error":"#DIV/0!"}},{"$f":"SUM(AK6:AK35)/$R$2","v":{"$error":"#DIV/0!"}},{"$f":"SUM(AL6:AL35)","v":{"v":0,"d":"0.00"}},{"$f":"SUM(AM6:AM35)","v":{"$error":"#VALUE!"}}]
{"$rows_empty":7}
[{"$nulls":34},65,null,null,13.5]
[null,null,"Apero Spritz",null,null,"Ceviche",null,null,"Rib Eye*",null,"Nonna",{"$nulls":5},"Rib Eye*","Rare",null,null,"Baklava"]
[null,null,"Campari Spritz",null,null,"Watermelon",null,null,"Cooking",null,"Baklava",{"$nulls":5},"Cooking","Medium Rare",null,null,"Fruit "]
[null,null,"Lillet Spritz",null,null,"Hummus",null,null,"Cod",null,"Fruit Salad",{"$nulls":5},"Cod","Medium"]
[null,null,"Hugo Spritz",null,null,"Aubergine",null,null,"Duck ",{"$nulls":7},"Duck","Medium Well"]
[null,null,"Rose Spritz",{"$nulls":5},"Fattoush ",{"$nulls":7},"Fattoush","Well Done"]
[null," ","White Wine Spritz",{"$nulls":5},"Melanzane ",{"$nulls":7},"Melanzane "]
[null,null,"Negroni"]
[null,null,"Old Fashioned"]
[null,null,"E Martini"]
[null,null,"P Margarita"]
[null,null,"Sekanjebin"]
[null,null,"Khakshir "]
[null,null,"Doogh"]